BEGIN:VCALENDAR
VERSION:2.0
PRODID:-//Malbuisson.fr - ECPv6.15.17.1//NONSGML v1.0//EN
CALSCALE:GREGORIAN
METHOD:PUBLISH
X-WR-CALNAME:Malbuisson.fr
X-ORIGINAL-URL:https://malbuisson.fr
X-WR-CALDESC:Évènements pour Malbuisson.fr
REFRESH-INTERVAL;VALUE=DURATION:PT1H
X-Robots-Tag:noindex
X-PUBLISHED-TTL:PT1H
BEGIN:VTIMEZONE
TZID:Europe/Paris
BEGIN:DAYLIGHT
TZOFFSETFROM:+0100
TZOFFSETTO:+0200
TZNAME:CEST
DTSTART:20220327T010000
END:DAYLIGHT
BEGIN:STANDARD
TZOFFSETFROM:+0200
TZOFFSETTO:+0100
TZNAME:CET
DTSTART:20221030T010000
END:STANDARD
BEGIN:DAYLIGHT
TZOFFSETFROM:+0100
TZOFFSETTO:+0200
TZNAME:CEST
DTSTART:20230326T010000
END:DAYLIGHT
BEGIN:STANDARD
TZOFFSETFROM:+0200
TZOFFSETTO:+0100
TZNAME:CET
DTSTART:20231029T010000
END:STANDARD
BEGIN:DAYLIGHT
TZOFFSETFROM:+0100
TZOFFSETTO:+0200
TZNAME:CEST
DTSTART:20240331T010000
END:DAYLIGHT
BEGIN:STANDARD
TZOFFSETFROM:+0200
TZOFFSETTO:+0100
TZNAME:CET
DTSTART:20241027T010000
END:STANDARD
END:VTIMEZONE
BEGIN:VEVENT
DTSTART;TZID=Europe/Paris:20231002T000000
DTEND;TZID=Europe/Paris:20231006T000000
DTSTAMP:20260422T115031
CREATED:20230923T095246Z
LAST-MODIFIED:20230923T095451Z
UID:18410-1696204800-1696550400@malbuisson.fr
SUMMARY:TRANSHUMANCE Saison culturelle itinérante
DESCRIPTION:                                        Du 2 au 6 octobre  au centre du village                                                                              installation du centre culturel nomade\nJeudi 5 octobre spectacle de danse et photographie à la maison du temps libre à 20h \nVendredi 6 octobre  Théâtre « le Mariage forcé »0 la maison du temps libre à 20h30 \n \n  \n 
URL:https://malbuisson.fr/evenement/transhumance-saison-culturelle-itinerante/
LOCATION:MAISON DU TEMPS LIBRE\, MALBUISSON
CATEGORIES:Général
ORGANIZER;CN="Mairie de Malbuisson":MAILTO:contact@malbuisson.fr
END:VEVENT
BEGIN:VEVENT
DTSTART;TZID=Europe/Paris:20231006T203000
DTEND;TZID=Europe/Paris:20231006T213000
DTSTAMP:20260422T115031
CREATED:20230923T100723Z
LAST-MODIFIED:20230923T100917Z
UID:18416-1696624200-1696627800@malbuisson.fr
SUMMARY:THEATRE: "Le Mariage forcé" de Molière
DESCRIPTION:                                      \n  \n 
URL:https://malbuisson.fr/evenement/le-mariage-force-de-moliere/
LOCATION:MAISON DU TEMPS LIBRE\, MALBUISSON
CATEGORIES:Général
ORGANIZER;CN="Mairie de Malbuisson":MAILTO:contact@malbuisson.fr
END:VEVENT
BEGIN:VEVENT
DTSTART;TZID=Europe/Paris:20231014T000000
DTEND;TZID=Europe/Paris:20231015T000000
DTSTAMP:20260422T115031
CREATED:20231010T072908Z
LAST-MODIFIED:20231010T072908Z
UID:18442-1697241600-1697328000@malbuisson.fr
SUMMARY:MALBUISSON autrefois-Exposition
DESCRIPTION:
URL:https://malbuisson.fr/evenement/malbuisson-autrefois-exposition/
LOCATION:Bibliothèque Municipale Malbuisson\, Route du Fort\, MALBUISSON\, 25160
CATEGORIES:Général
ORGANIZER;CN="Mairie de Malbuisson":MAILTO:contact@malbuisson.fr
END:VEVENT
END:VCALENDAR