BEGIN:VCALENDAR
VERSION:2.0
PRODID:-//Malbuisson.fr - ECPv6.15.17.1//NONSGML v1.0//EN
CALSCALE:GREGORIAN
METHOD:PUBLISH
X-WR-CALNAME:Malbuisson.fr
X-ORIGINAL-URL:https://malbuisson.fr
X-WR-CALDESC:Évènements pour Malbuisson.fr
REFRESH-INTERVAL;VALUE=DURATION:PT1H
X-Robots-Tag:noindex
X-PUBLISHED-TTL:PT1H
BEGIN:VTIMEZONE
TZID:Europe/Paris
BEGIN:DAYLIGHT
TZOFFSETFROM:+0100
TZOFFSETTO:+0200
TZNAME:CEST
DTSTART:20220327T010000
END:DAYLIGHT
BEGIN:STANDARD
TZOFFSETFROM:+0200
TZOFFSETTO:+0100
TZNAME:CET
DTSTART:20221030T010000
END:STANDARD
BEGIN:DAYLIGHT
TZOFFSETFROM:+0100
TZOFFSETTO:+0200
TZNAME:CEST
DTSTART:20230326T010000
END:DAYLIGHT
BEGIN:STANDARD
TZOFFSETFROM:+0200
TZOFFSETTO:+0100
TZNAME:CET
DTSTART:20231029T010000
END:STANDARD
BEGIN:DAYLIGHT
TZOFFSETFROM:+0100
TZOFFSETTO:+0200
TZNAME:CEST
DTSTART:20240331T010000
END:DAYLIGHT
BEGIN:STANDARD
TZOFFSETFROM:+0200
TZOFFSETTO:+0100
TZNAME:CET
DTSTART:20241027T010000
END:STANDARD
END:VTIMEZONE
BEGIN:VEVENT
DTSTART;TZID=Europe/Paris:20230717T000000
DTEND;TZID=Europe/Paris:20230723T000000
DTSTAMP:20260422T173139
CREATED:20230717T083221Z
LAST-MODIFIED:20230717T091754Z
UID:17995-1689552000-1690070400@malbuisson.fr
SUMMARY:Exposition peinture et créations bois-Monique et René LIETTA
DESCRIPTION:
URL:https://malbuisson.fr/evenement/exposition-peinture-et-creations-bois-monique-et-rene-lietta/
LOCATION:salle des expositions mairie
CATEGORIES:Général
ORGANIZER;CN="Mairie de Malbuisson":MAILTO:contact@malbuisson.fr
END:VEVENT
BEGIN:VEVENT
DTSTART;TZID=Europe/Paris:20230721T213000
DTEND;TZID=Europe/Paris:20230721T230000
DTSTAMP:20260422T173139
CREATED:20230717T085032Z
LAST-MODIFIED:20230717T102023Z
UID:18223-1689975000-1689980400@malbuisson.fr
SUMMARY:CINÉMA EN PLEIN AIR
DESCRIPTION:PLAGE DES LANDES\n » Les Demoiselles de Rochefort « \nFilm de JACQUES DEMY (1967) \nle 21 juillet à 21h30 accès libre\n  \n   \n  \n 
URL:https://malbuisson.fr/evenement/cinema-en-plein-air/
LOCATION:plage des landes Malbuisson\, Malbuisson
CATEGORIES:Général
END:VEVENT
BEGIN:VEVENT
DTSTART;VALUE=DATE:20230724
DTEND;VALUE=DATE:20230731
DTSTAMP:20260422T173139
CREATED:20230724T091711Z
LAST-MODIFIED:20230724T105435Z
UID:18329-1690156800-1690761599@malbuisson.fr
SUMMARY:Exposition d'aquarelle G. VOEKLIN -  Bijoux Fantaisie C. GAREL
DESCRIPTION:AQUARELLES\nGINETTE VOEKLIN\n\nBIJOUX FANTAISIE\npour l’association NAUSICAA luttant contre la leucémie\nCorinne GAREL\n 
URL:https://malbuisson.fr/evenement/exposition-daquarelle-g-voeklin-bijoux-fantaisie-c-garel/
LOCATION:salle des expositions mairie
CATEGORIES:Général
ORGANIZER;CN="Mairie de Malbuisson":MAILTO:contact@malbuisson.fr
END:VEVENT
BEGIN:VEVENT
DTSTART;TZID=Europe/Paris:20230729T180000
DTEND;TZID=Europe/Paris:20230729T233000
DTSTAMP:20260422T173139
CREATED:20230724T133019Z
LAST-MODIFIED:20230724T133019Z
UID:18336-1690653600-1690673400@malbuisson.fr
SUMMARY:Fête des Buissonnières - Repas - Feu d'artifice
DESCRIPTION:La fête des Buissonnières \norganisée par l’Association des Buissonnières\n\naura lieu :\nSamedi 29 Juillet 2019 de 18 h à 02 h\n\ncours de l’école\nREPAS CHAMPÊTRE\n\nsuivi du feu d’artifice OFFERT par la Commune de Malbuisson dès 22 heures\n\n \n  \n 
URL:https://malbuisson.fr/evenement/fete-des-buissonnieres-repas-feu-dartifice/
LOCATION:Préau de l’Ecole\, Place Maison du Temps Libre\, MALBUISSON\, 25160
CATEGORIES:Général
END:VEVENT
BEGIN:VEVENT
DTSTART;TZID=Europe/Paris:20230730T100000
DTEND;TZID=Europe/Paris:20230730T180000
DTSTAMP:20260422T173139
CREATED:20230724T131858Z
LAST-MODIFIED:20230724T131931Z
UID:18341-1690711200-1690740000@malbuisson.fr
SUMMARY:Tournée du Comté 2023
DESCRIPTION:Plage des Landes \n30 juillet de 10 h à 18 h \n\n  \n 
URL:https://malbuisson.fr/evenement/tournee-du-comte-2023/
LOCATION:plage des landes Malbuisson\, Malbuisson
CATEGORIES:Général
END:VEVENT
END:VCALENDAR